BEGIN:VCALENDAR
VERSION:2.0
PRODID:-//遊方 FOR YOU! - ECPv6.15.20//NONSGML v1.0//EN
CALSCALE:GREGORIAN
METHOD:PUBLISH
X-ORIGINAL-URL:https://yuho-tsukitei.com
X-WR-CALDESC:遊方 FOR YOU! のイベント
REFRESH-INTERVAL;VALUE=DURATION:PT1H
X-Robots-Tag:noindex
X-PUBLISHED-TTL:PT1H
BEGIN:VTIMEZONE
TZID:Asia/Tokyo
BEGIN:STANDARD
TZOFFSETFROM:+0900
TZOFFSETTO:+0900
TZNAME:JST
DTSTART:20240101T000000
END:STANDARD
END:VTIMEZONE
BEGIN:VEVENT
DTSTART;TZID=Asia/Tokyo:20250517T100000
DTEND;TZID=Asia/Tokyo:20250517T180000
DTSTAMP:20260424T171643
CREATED:20250321T153720Z
LAST-MODIFIED:20250321T154649Z
UID:3585-1747476000-1747504800@yuho-tsukitei.com
SUMMARY:彦八まつり〜上方落語ファン感謝祭〜
DESCRIPTION:日時：5月17日（土）午前10時開演（18時終演） \n場所：生國魂神社（地下鉄「谷町九丁目」駅3番出口より徒歩5分 \n出演：上方落語家たっくさん \n遊方は、桂あやめ、林家染雀と3人で、雑貨屋&ライブハウスのブースをやってます \n料金：無料（一部イベントは有料） \n問合せ：06-6354-7727（彦八まつり実行委員会）
URL:https://yuho-tsukitei.com/event/%e5%bd%a6%e5%85%ab%e3%81%be%e3%81%a4%e3%82%8a%e3%80%9c%e4%b8%8a%e6%96%b9%e8%90%bd%e8%aa%9e%e3%83%95%e3%82%a1%e3%83%b3%e6%84%9f%e8%ac%9d%e7%a5%ad%e3%80%9c-2
ATTACH;FMTTYPE=image/jpeg:https://yuho-tsukitei.com/wp-content/uploads/2025/03/IMG_8356.jpeg
END:VEVENT
BEGIN:VEVENT
DTSTART;TZID=Asia/Tokyo:20250517T100000
DTEND;TZID=Asia/Tokyo:20250517T180000
DTSTAMP:20260424T171643
CREATED:20250321T153401Z
LAST-MODIFIED:20250321T153401Z
UID:3580-1747476000-1747504800@yuho-tsukitei.com
SUMMARY:彦八まつり〜上方落語ファン感謝祭〜
DESCRIPTION:日時：5月17日（土）午前10時開演（18時終演） \n場所：生國魂神社（地下鉄「谷町九丁目」駅3番出口より徒歩5分 \n出演：上方落語家たっくさん\n☆遊方はオープニングアクト（ホーンなあほな演奏）にギターで参加、16時からの噺館バンドステージにHEROポン酢ハイならギターで出演 \nブースは、桂あやめ・月亭遊方・林家染雀で雑貨屋&ライブハウスをやってます \n料金：無料（一部イベントは有料） \n問合せ：06-6354-7727（彦八まつり実行委員会）
URL:https://yuho-tsukitei.com/event/%e5%bd%a6%e5%85%ab%e3%81%be%e3%81%a4%e3%82%8a%e3%80%9c%e4%b8%8a%e6%96%b9%e8%90%bd%e8%aa%9e%e3%83%95%e3%82%a1%e3%83%b3%e6%84%9f%e8%ac%9d%e7%a5%ad%e3%80%9c
ATTACH;FMTTYPE=image/jpeg:https://yuho-tsukitei.com/wp-content/uploads/2025/03/IMG_8356.jpeg
END:VEVENT
END:VCALENDAR