BEGIN:VCALENDAR
VERSION:2.0
PRODID:-//遊方 FOR YOU! - ECPv6.15.20//NONSGML v1.0//EN
CALSCALE:GREGORIAN
METHOD:PUBLISH
X-WR-CALNAME:遊方 FOR YOU!
X-ORIGINAL-URL:https://yuho-tsukitei.com
X-WR-CALDESC:遊方 FOR YOU! のイベント
REFRESH-INTERVAL;VALUE=DURATION:PT1H
X-Robots-Tag:noindex
X-PUBLISHED-TTL:PT1H
BEGIN:VTIMEZONE
TZID:Asia/Tokyo
BEGIN:STANDARD
TZOFFSETFROM:+0900
TZOFFSETTO:+0900
TZNAME:JST
DTSTART:20240101T000000
END:STANDARD
END:VTIMEZONE
BEGIN:VEVENT
DTSTART;TZID=Asia/Tokyo:20250525T150000
DTEND;TZID=Asia/Tokyo:20250525T160000
DTSTAMP:20260424T152518
CREATED:20250424T063357Z
LAST-MODIFIED:20250424T090028Z
UID:3627-1748185200-1748188800@yuho-tsukitei.com
SUMMARY:さのDAY落語会
DESCRIPTION:日時：5月25日（日）午後3時開演（2時30分開場、4時終演） \n場所：レフ関空泉佐野byベッセルホテルズ（南海「泉佐野」駅より徒歩1分） \n出演：月亭遊方、桂小留（落語1席ずつ） \n料金：2000円（ドリンクBAR＆焼き菓子セット付き） \n予約＆問合せ：080-4766-0911（sho-yaカンパニー）
URL:https://yuho-tsukitei.com/event/%e3%81%95%e3%81%aeday%e8%90%bd%e8%aa%9e%e4%bc%9a-2
ATTACH;FMTTYPE=image/jpeg:https://yuho-tsukitei.com/wp-content/uploads/2025/04/att.LNAqWfQ6p5E6O0MKdVtBu0kGDkMAc6KPhJRbnwexInw.jpeg
END:VEVENT
END:VCALENDAR