BEGIN:VCALENDAR
VERSION:2.0
PRODID:-//遊方 FOR YOU! - ECPv6.15.20//NONSGML v1.0//EN
CALSCALE:GREGORIAN
METHOD:PUBLISH
X-ORIGINAL-URL:https://yuho-tsukitei.com
X-WR-CALDESC:遊方 FOR YOU! のイベント
REFRESH-INTERVAL;VALUE=DURATION:PT1H
X-Robots-Tag:noindex
X-PUBLISHED-TTL:PT1H
BEGIN:VTIMEZONE
TZID:Asia/Tokyo
BEGIN:STANDARD
TZOFFSETFROM:+0900
TZOFFSETTO:+0900
TZNAME:JST
DTSTART:20240101T000000
END:STANDARD
END:VTIMEZONE
BEGIN:VEVENT
DTSTART;TZID=Asia/Tokyo:20250602T190000
DTEND;TZID=Asia/Tokyo:20250602T210000
DTSTAMP:20260424T111604
CREATED:20250316T145845Z
LAST-MODIFIED:20250403T181852Z
UID:3545-1748890800-1748898000@yuho-tsukitei.com
SUMMARY:百年長屋・遊方基地 #7
DESCRIPTION:日時：6月2日（月）午後7時開演（6時30分開場、9時過ぎ終演予定 ※なんぼ長引いても9時半までには終わります） \n場所：百年長屋（JR「玉造」駅、「森ノ宮」駅より徒歩6分） \n出演：月亭遊方「猫の災難」他、新作落語1席\n     ゲスト：桂米二\n     ☆遊方×米二 対談あり \n料金：予約2000円、当日2500円（全席自由） \n予約＆問合せ：京升堂\n            075-279-2868\n            kyoushoudou@hotmail.com
URL:https://yuho-tsukitei.com/event/%e7%99%be%e5%b9%b4%e9%95%b7%e5%b1%8b%e3%83%bb%e9%81%8a%e6%96%b9%e5%9f%ba%e5%9c%b0-7
ATTACH;FMTTYPE=image/jpeg:https://yuho-tsukitei.com/wp-content/uploads/2025/03/IMG_8438.jpeg
END:VEVENT
END:VCALENDAR