BEGIN:VCALENDAR
VERSION:2.0
PRODID:-//遊方 FOR YOU! - ECPv6.15.20//NONSGML v1.0//EN
CALSCALE:GREGORIAN
METHOD:PUBLISH
X-WR-CALNAME:遊方 FOR YOU!
X-ORIGINAL-URL:https://yuho-tsukitei.com
X-WR-CALDESC:遊方 FOR YOU! のイベント
REFRESH-INTERVAL;VALUE=DURATION:PT1H
X-Robots-Tag:noindex
X-PUBLISHED-TTL:PT1H
BEGIN:VTIMEZONE
TZID:Asia/Tokyo
BEGIN:STANDARD
TZOFFSETFROM:+0900
TZOFFSETTO:+0900
TZNAME:JST
DTSTART:20240101T000000
END:STANDARD
END:VTIMEZONE
BEGIN:VEVENT
DTSTART;TZID=Asia/Tokyo:20250607T140000
DTEND;TZID=Asia/Tokyo:20250607T163000
DTSTAMP:20260424T111656
CREATED:20250424T055748Z
LAST-MODIFIED:20250424T055748Z
UID:3618-1749304800-1749313800@yuho-tsukitei.com
SUMMARY:第36回 アルスくらしき寄席
DESCRIPTION:日時：6月7日（土）午後2時開演（1時30分開場） \n場所：倉敷市芸文会館アイシアター（JR「倉敷」駅より徒歩\n     15分、バス中央2丁目下車すぐ\n     Tel：086-434-0400 \n出演：桂おとめ、桂小留、林家染左 〜仲入り〜 露の眞（ど\n     じょうすくい踊り）、月亭遊方  ※出演順 \n料金：一般2500円、大学生以下500円（全席指定） \n予約＆問合せ：アルスくらしきチケットセンター\n           086-434-0010（9:00〜17:00、水曜休）\n           チケットぴあ（Pコード:531-939）
URL:https://yuho-tsukitei.com/event/%e7%ac%ac36%e5%9b%9e-%e3%82%a2%e3%83%ab%e3%82%b9%e3%81%8f%e3%82%89%e3%81%97%e3%81%8d%e5%af%84%e5%b8%ad
ATTACH;FMTTYPE=image/jpeg:https://yuho-tsukitei.com/wp-content/uploads/2025/04/IMG_9787.jpeg
END:VEVENT
END:VCALENDAR