BEGIN:VCALENDAR
VERSION:2.0
PRODID:-//遊方 FOR YOU! - ECPv6.15.20//NONSGML v1.0//EN
CALSCALE:GREGORIAN
METHOD:PUBLISH
X-ORIGINAL-URL:https://yuho-tsukitei.com
X-WR-CALDESC:遊方 FOR YOU! のイベント
REFRESH-INTERVAL;VALUE=DURATION:PT1H
X-Robots-Tag:noindex
X-PUBLISHED-TTL:PT1H
BEGIN:VTIMEZONE
TZID:Asia/Tokyo
BEGIN:STANDARD
TZOFFSETFROM:+0900
TZOFFSETTO:+0900
TZNAME:JST
DTSTART:20240101T000000
END:STANDARD
END:VTIMEZONE
BEGIN:VEVENT
DTSTART;TZID=Asia/Tokyo:20250609T183000
DTEND;TZID=Asia/Tokyo:20250609T210000
DTSTAMP:20260424T112545
CREATED:20250321T152408Z
LAST-MODIFIED:20250321T152408Z
UID:3577-1749493800-1749502800@yuho-tsukitei.com
SUMMARY:繁昌亭ロックフェスティバル
DESCRIPTION:日時：6月9日（月）午後6時30分開演（6時開場、9時終演予定） \n場所：天満天神繁昌亭（地下鉄「南森町」駅4-A出口より徒歩3分） \n出演：桂あやめ「ミャクミャク」月亭遊方「生きてるうちが花なんだぜ」桂九ノ一「開口一番」\nゲスト：嘉門タツオ（ミニライブ）\n☆トークあり \n料金：前売3500円、当日4000円（全席指定） \nチケット：4月9日午前10時発売\n繁昌亭窓口、チケットぴあ(Pコード:597-700)、セブンイレブン(要Pコード)
URL:https://yuho-tsukitei.com/event/%e7%b9%81%e6%98%8c%e4%ba%ad%e3%83%ad%e3%83%83%e3%82%af%e3%83%95%e3%82%a7%e3%82%b9%e3%83%86%e3%82%a3%e3%83%90%e3%83%ab
ATTACH;FMTTYPE=image/jpeg:https://yuho-tsukitei.com/wp-content/uploads/2025/03/IMG_8439.jpeg
END:VEVENT
END:VCALENDAR