BEGIN:VCALENDAR
VERSION:2.0
PRODID:-//遊方 FOR YOU! - ECPv6.15.20//NONSGML v1.0//EN
CALSCALE:GREGORIAN
METHOD:PUBLISH
X-WR-CALNAME:遊方 FOR YOU!
X-ORIGINAL-URL:https://yuho-tsukitei.com
X-WR-CALDESC:遊方 FOR YOU! のイベント
REFRESH-INTERVAL;VALUE=DURATION:PT1H
X-Robots-Tag:noindex
X-PUBLISHED-TTL:PT1H
BEGIN:VTIMEZONE
TZID:Asia/Tokyo
BEGIN:STANDARD
TZOFFSETFROM:+0900
TZOFFSETTO:+0900
TZNAME:JST
DTSTART:20240101T000000
END:STANDARD
END:VTIMEZONE
BEGIN:VEVENT
DTSTART;TZID=Asia/Tokyo:20250611T190000
DTEND;TZID=Asia/Tokyo:20250611T210000
DTSTAMP:20260424T112405
CREATED:20250424T053448Z
LAST-MODIFIED:20250424T053448Z
UID:3611-1749668400-1749675600@yuho-tsukitei.com
SUMMARY:maybeBar J 寄席
DESCRIPTION:日時：6月11日（水）午後7時15分開演（6時開場） \n場所：maybeBarJ（阪神「杭瀬」駅より徒歩10分）\n                   ※尼崎市今福1-1-28-105 \n出演：月亭遊方（落語2席）、旭堂南璃（講談1席） \n料金：投げ銭＋要1ドリンクオーダー（全席自由） \n予約＆問合せ：maybeBarj@gmail.com\n      ※席数が少ないのでなるべくご予約ください
URL:https://yuho-tsukitei.com/event/maybebar-j-%e5%af%84%e5%b8%ad
ATTACH;FMTTYPE=image/jpeg:https://yuho-tsukitei.com/wp-content/uploads/2025/04/att.S7Ep8DyCQn25hT9-aTolflLjG9kz0ka4xbKR2YEHISg.jpeg
END:VEVENT
END:VCALENDAR