BEGIN:VCALENDAR
VERSION:2.0
PRODID:-//遊方 FOR YOU! - ECPv6.15.20//NONSGML v1.0//EN
CALSCALE:GREGORIAN
METHOD:PUBLISH
X-ORIGINAL-URL:https://yuho-tsukitei.com
X-WR-CALDESC:遊方 FOR YOU! のイベント
REFRESH-INTERVAL;VALUE=DURATION:PT1H
X-Robots-Tag:noindex
X-PUBLISHED-TTL:PT1H
BEGIN:VTIMEZONE
TZID:Asia/Tokyo
BEGIN:STANDARD
TZOFFSETFROM:+0900
TZOFFSETTO:+0900
TZNAME:JST
DTSTART:20240101T000000
END:STANDARD
END:VTIMEZONE
BEGIN:VEVENT
DTSTART;TZID=Asia/Tokyo:20250618T140000
DTEND;TZID=Asia/Tokyo:20250618T163000
DTSTAMP:20260424T132044
CREATED:20250424T090429Z
LAST-MODIFIED:20250507T150431Z
UID:3632-1750255200-1750264200@yuho-tsukitei.com
SUMMARY:動楽亭昼席
DESCRIPTION:日時：6月18日（水）午後2時開演（1時30分開場） \n場所：動楽亭（地下鉄「動物園前」駅①番出口上がってすぐ目の前、コンビニストアの上2階） \n出演：桂米舞、桂りょうば、露の紫、桂楽珍 〜仲入り〜\n     月亭遊方、桂文之助 \n料金：2500円（当日受付、自由席） \n問合せ：06-6365-8281（米朝事務所）
URL:https://yuho-tsukitei.com/event/%e5%8b%95%e6%a5%bd%e4%ba%ad%e6%98%bc%e5%b8%ad-14
ATTACH;FMTTYPE=image/jpeg:https://yuho-tsukitei.com/wp-content/uploads/2025/04/IMG_9795.jpeg
END:VEVENT
END:VCALENDAR