BEGIN:VCALENDAR
VERSION:2.0
PRODID:-//遊方 FOR YOU! - ECPv6.15.20//NONSGML v1.0//EN
CALSCALE:GREGORIAN
METHOD:PUBLISH
X-WR-CALNAME:遊方 FOR YOU!
X-ORIGINAL-URL:https://yuho-tsukitei.com
X-WR-CALDESC:遊方 FOR YOU! のイベント
REFRESH-INTERVAL;VALUE=DURATION:PT1H
X-Robots-Tag:noindex
X-PUBLISHED-TTL:PT1H
BEGIN:VTIMEZONE
TZID:Asia/Tokyo
BEGIN:STANDARD
TZOFFSETFROM:+0900
TZOFFSETTO:+0900
TZNAME:JST
DTSTART:20240101T000000
END:STANDARD
END:VTIMEZONE
BEGIN:VEVENT
DTSTART;TZID=Asia/Tokyo:20250705T143000
DTEND;TZID=Asia/Tokyo:20250705T163000
DTSTAMP:20260424T092651
CREATED:20250522T034058Z
LAST-MODIFIED:20250522T034058Z
UID:3674-1751725800-1751733000@yuho-tsukitei.com
SUMMARY:Memorial Event「父や母を想う」vol.3 初日
DESCRIPTION:日時：7月5日（土）午後2時30分開演（2時開場、4時終演予定） \n場所：表現者工房5階ブラン（JR「寺田町」駅より徒歩15分\n      /大阪市生野区生野東2丁目1-17 寺田町延三ビル） \n出演：木下菜穂子（朗読）、坂口修二（朗読）、mayu（弾\n     き語り）、月亭遊方（スタンダップコメディ）、旭堂\n     南璃（講談） \n料金：前売2000円、食事付き5500円（要3日前までのご予\n     約） ※ドリンクのみで食事会参加1000円 \n予約＆問合せ：表現者工房\n             iksalonhyogensha@gmail.com\n             06-6147-2897（平日10時〜19時）
URL:https://yuho-tsukitei.com/event/memorial-event%e3%80%8c%e7%88%b6%e3%82%84%e6%af%8d%e3%82%92%e6%83%b3%e3%81%86%e3%80%8dvol-3-%e5%88%9d%e6%97%a5
ATTACH;FMTTYPE=image/jpeg:https://yuho-tsukitei.com/wp-content/uploads/2025/05/メモリアルイベント３チラシ1_page-0001.jpeg
END:VEVENT
END:VCALENDAR