BEGIN:VCALENDAR
VERSION:2.0
PRODID:-//遊方 FOR YOU! - ECPv6.15.20//NONSGML v1.0//EN
CALSCALE:GREGORIAN
METHOD:PUBLISH
X-ORIGINAL-URL:https://yuho-tsukitei.com
X-WR-CALDESC:遊方 FOR YOU! のイベント
REFRESH-INTERVAL;VALUE=DURATION:PT1H
X-Robots-Tag:noindex
X-PUBLISHED-TTL:PT1H
BEGIN:VTIMEZONE
TZID:Asia/Tokyo
BEGIN:STANDARD
TZOFFSETFROM:+0900
TZOFFSETTO:+0900
TZNAME:JST
DTSTART:20240101T000000
END:STANDARD
END:VTIMEZONE
BEGIN:VEVENT
DTSTART;TZID=Asia/Tokyo:20250708T183000
DTEND;TZID=Asia/Tokyo:20250708T210000
DTSTAMP:20260424T092841
CREATED:20250403T183125Z
LAST-MODIFIED:20250413T143614Z
UID:3596-1751999400-1752008400@yuho-tsukitei.com
SUMMARY:第6回 月亭遊方一門会
DESCRIPTION:日時：7月8日（火）午後6時30分開演（6時開場） \n場所：天満天神繁昌亭（地下鉄「南森町」駅4-A出口より徒歩3分） \n出演：月亭遊方、月亭遊真、月亭希遊\n     ☆オープニングトークあり\n     ☆一門クイズ大会あり 問題＆出題：平井史（クイズバ\n      ー・スアール大阪クイズマスター） \n料金：前売2500円、当日3000円 \nチケット：チケットぴあ t.pia.jp 、セブンイレブン（ど\n         ちらもPコード：597-700）、繁昌亭窓口（11\n         時〜19時） \n問合せ：06-6631-0659 / info@saneikikaku.co.jp\n     （三栄企画）\n      ※平日10:00~17:30、土日祝日は留守電対応 \n※チラシ作製中
URL:https://yuho-tsukitei.com/event/%e7%ac%ac6%e5%9b%9e-%e6%9c%88%e4%ba%ad%e9%81%8a%e6%96%b9%e4%b8%80%e9%96%80%e4%bc%9a
ATTACH;FMTTYPE=image/jpeg:https://yuho-tsukitei.com/wp-content/uploads/2025/04/IMG_9170.jpeg
END:VEVENT
END:VCALENDAR