BEGIN:VCALENDAR
VERSION:2.0
PRODID:-//遊方 FOR YOU! - ECPv6.15.20//NONSGML v1.0//EN
CALSCALE:GREGORIAN
METHOD:PUBLISH
X-WR-CALNAME:遊方 FOR YOU!
X-ORIGINAL-URL:https://yuho-tsukitei.com
X-WR-CALDESC:遊方 FOR YOU! のイベント
REFRESH-INTERVAL;VALUE=DURATION:PT1H
X-Robots-Tag:noindex
X-PUBLISHED-TTL:PT1H
BEGIN:VTIMEZONE
TZID:Asia/Tokyo
BEGIN:STANDARD
TZOFFSETFROM:+0900
TZOFFSETTO:+0900
TZNAME:JST
DTSTART:20240101T000000
END:STANDARD
END:VTIMEZONE
BEGIN:VEVENT
DTSTART;TZID=Asia/Tokyo:20250712T150000
DTEND;TZID=Asia/Tokyo:20250712T163000
DTSTAMP:20260424T092816
CREATED:20250522T171606Z
LAST-MODIFIED:20250604T192035Z
UID:3682-1752332400-1752337800@yuho-tsukitei.com
SUMMARY:月亭遊方 高知独演会
DESCRIPTION:日時：7月12日（土）午後3時開演（2時30分開場、4時30分終演予定） \n場所：喫茶メフィストフェレス（とさでん伊野線「大橋通」\n     駅より徒歩2分 / 高知市帯屋町2-5-23 / 088-\n     823-7871） \n出演：月亭遊方（落語2席） \n料金：予約2500円 当日3000円 \n予約＆問合せ：yuhotsukitei.69@gmail.com（UFO基地）
URL:https://yuho-tsukitei.com/event/%e6%9c%88%e4%ba%ad%e9%81%8a%e6%96%b9-%e9%ab%98%e7%9f%a5%e7%8b%ac%e6%bc%94%e4%bc%9a
ATTACH;FMTTYPE=image/jpeg:https://yuho-tsukitei.com/wp-content/uploads/2025/05/IMG_1267.jpeg
END:VEVENT
END:VCALENDAR