BEGIN:VCALENDAR
VERSION:2.0
PRODID:-//遊方 FOR YOU! - ECPv6.15.20//NONSGML v1.0//EN
CALSCALE:GREGORIAN
METHOD:PUBLISH
X-WR-CALNAME:遊方 FOR YOU!
X-ORIGINAL-URL:https://yuho-tsukitei.com
X-WR-CALDESC:遊方 FOR YOU! のイベント
REFRESH-INTERVAL;VALUE=DURATION:PT1H
X-Robots-Tag:noindex
X-PUBLISHED-TTL:PT1H
BEGIN:VTIMEZONE
TZID:Asia/Tokyo
BEGIN:STANDARD
TZOFFSETFROM:+0900
TZOFFSETTO:+0900
TZNAME:JST
DTSTART:20240101T000000
END:STANDARD
END:VTIMEZONE
BEGIN:VEVENT
DTSTART;TZID=Asia/Tokyo:20250723T160000
DTEND;TZID=Asia/Tokyo:20250723T170000
DTSTAMP:20260424T092820
CREATED:20250527T070027Z
LAST-MODIFIED:20250710T123042Z
UID:3688-1753286400-1753290000@yuho-tsukitei.com
SUMMARY:坐摩らくご会
DESCRIPTION:日時：7月23日（水）午後4時20分開演（5時終演） \n場所：坐摩神社・社務所和室 \n出演：月亭遊方『猫の災難』\n     ※大阪せともの祭（21日〜23日、11時〜20時、坐摩\n      神社境内にて）の神賑行事として \n料金：当日1000円 \n問合せ：06-6251-4792（坐摩神社）
URL:https://yuho-tsukitei.com/event/%e5%9d%90%e6%91%a9%e3%82%89%e3%81%8f%e3%81%94%e4%bc%9a-2
ATTACH;FMTTYPE=image/jpeg:https://yuho-tsukitei.com/wp-content/uploads/2025/05/IMG_0834.jpeg
END:VEVENT
END:VCALENDAR