BEGIN:VCALENDAR
VERSION:2.0
PRODID:-//遊方 FOR YOU! - ECPv6.15.20//NONSGML v1.0//EN
CALSCALE:GREGORIAN
METHOD:PUBLISH
X-WR-CALNAME:遊方 FOR YOU!
X-ORIGINAL-URL:https://yuho-tsukitei.com
X-WR-CALDESC:遊方 FOR YOU! のイベント
REFRESH-INTERVAL;VALUE=DURATION:PT1H
X-Robots-Tag:noindex
X-PUBLISHED-TTL:PT1H
BEGIN:VTIMEZONE
TZID:Asia/Tokyo
BEGIN:STANDARD
TZOFFSETFROM:+0900
TZOFFSETTO:+0900
TZNAME:JST
DTSTART:20240101T000000
END:STANDARD
END:VTIMEZONE
BEGIN:VEVENT
DTSTART;TZID=Asia/Tokyo:20250731T190000
DTEND;TZID=Asia/Tokyo:20250731T210000
DTSTAMP:20260424T073757
CREATED:20250514T074900Z
LAST-MODIFIED:20250514T074900Z
UID:3657-1753988400-1753995600@yuho-tsukitei.com
SUMMARY:第29回 ロン毛・トーク・ファニー〜古民家で新作落語を楽しむ会〜
DESCRIPTION:日時：7月31日（木）午後7時開演（6時30分開場、9時終演予定） \n場所：ツギハギ荘（地下鉄「南森町」駅より南へ徒歩10分\n              / 大阪市北区天神橋1-8-15） \n出演：月亭遊方『代理クルー』\n     桂雀喜『聞き耳トーマス〜海をゆく〜』\n     ☆アロハでこたつトークあり \n料金：予約1800円、当日2000円 \n予約フォーム：フォームはもうできてます。\nhttps://r.goope.jp/marumarupanda/reservation/event/detail/31258 \n問合せ：jacky7super@nifty.com（ロン毛カンパニー）
URL:https://yuho-tsukitei.com/event/%e7%ac%ac29%e5%9b%9e-%e3%83%ad%e3%83%b3%e6%af%9b%e3%83%bb%e3%83%88%e3%83%bc%e3%82%af%e3%83%bb%e3%83%95%e3%82%a1%e3%83%8b%e3%83%bc%e3%80%9c%e5%8f%a4%e6%b0%91%e5%ae%b6%e3%81%a7%e6%96%b0%e4%bd%9c
ATTACH;FMTTYPE=image/jpeg:https://yuho-tsukitei.com/wp-content/uploads/2025/05/IMG_0337.jpeg
END:VEVENT
END:VCALENDAR