BEGIN:VCALENDAR
VERSION:2.0
PRODID:-//遊方 FOR YOU! - ECPv6.15.20//NONSGML v1.0//EN
CALSCALE:GREGORIAN
METHOD:PUBLISH
X-ORIGINAL-URL:https://yuho-tsukitei.com
X-WR-CALDESC:遊方 FOR YOU! のイベント
REFRESH-INTERVAL;VALUE=DURATION:PT1H
X-Robots-Tag:noindex
X-PUBLISHED-TTL:PT1H
BEGIN:VTIMEZONE
TZID:Asia/Tokyo
BEGIN:STANDARD
TZOFFSETFROM:+0900
TZOFFSETTO:+0900
TZNAME:JST
DTSTART:20240101T000000
END:STANDARD
END:VTIMEZONE
BEGIN:VEVENT
DTSTART;TZID=Asia/Tokyo:20250914T140000
DTEND;TZID=Asia/Tokyo:20250914T170000
DTSTAMP:20260424T075953
CREATED:20250803T062912Z
LAST-MODIFIED:20250803T062912Z
UID:3832-1757858400-1757869200@yuho-tsukitei.com
SUMMARY:笑福亭たま十番勝負〜月亭遊方一門に挑む〜
DESCRIPTION:日時：9月14日（日）午後2時開演（1時30分開場） \n場所：銭屋ホール（近鉄「上本町」駅より徒歩3分、地下鉄\n    「谷町九丁目」駅より徒歩10分） \n出演：笑福亭たま『らくだ』『尼買い』『新作落語』\n     ゲスト：月亭遊方、月亭遊真、月亭希遊 \n料金：前売3500円、40歳以下1500円（当日各500円アッ\n     プ） \nチケット＆問合せ：：イープラス（座席選択可能）\nyoyakutamajimusho@gmail.com（笑福亭たま事務所）\n080-8515-1810（笑福亭たま事務所）
URL:https://yuho-tsukitei.com/event/%e7%ac%91%e7%a6%8f%e4%ba%ad%e3%81%9f%e3%81%be%e5%8d%81%e7%95%aa%e5%8b%9d%e8%b2%a0%e3%80%9c%e6%9c%88%e4%ba%ad%e9%81%8a%e6%96%b9%e4%b8%80%e9%96%80%e3%81%ab%e6%8c%91%e3%82%80%e3%80%9c
ATTACH;FMTTYPE=image/jpeg:https://yuho-tsukitei.com/wp-content/uploads/2025/08/IMG_3659.jpeg
END:VEVENT
END:VCALENDAR