BEGIN:VCALENDAR
VERSION:2.0
PRODID:-//遊方 FOR YOU! - ECPv6.15.20//NONSGML v1.0//EN
CALSCALE:GREGORIAN
METHOD:PUBLISH
X-WR-CALNAME:遊方 FOR YOU!
X-ORIGINAL-URL:https://yuho-tsukitei.com
X-WR-CALDESC:遊方 FOR YOU! のイベント
REFRESH-INTERVAL;VALUE=DURATION:PT1H
X-Robots-Tag:noindex
X-PUBLISHED-TTL:PT1H
BEGIN:VTIMEZONE
TZID:Asia/Tokyo
BEGIN:STANDARD
TZOFFSETFROM:+0900
TZOFFSETTO:+0900
TZNAME:JST
DTSTART:20240101T000000
END:STANDARD
END:VTIMEZONE
BEGIN:VEVENT
DTSTART;TZID=Asia/Tokyo:20251101T100000
DTEND;TZID=Asia/Tokyo:20251101T120000
DTSTAMP:20260423T215733
CREATED:20250909T143652Z
LAST-MODIFIED:20250909T143652Z
UID:3948-1761991200-1761998400@yuho-tsukitei.com
SUMMARY:神戸落語まつり〜落語家映画を楽しむ会〜
DESCRIPTION:日時：11月1日（土）午前10時開演（9時30分開場） \n場所：パルシネマしんこうえん \n桂あやめ監督作品\n「あなたのためならどこまでも」（2010）\n ※上映時間64分\n ☆上方の落語家がほぼほぼ出演してます。\n  遊方もエエ役ででています。是非観てください \n落語：桂あやめ\nトークショー：桂あやめ（監督）× 月亭八光（主演）\n※遊方もホーンなあほなの演奏後、トークに駆けつけます！ \n料金：前売当日とも1800円（全席指定） \n劇場窓口、電話申し込み：078-575-7879\nPeatix（オンライン申込）は下のQRコードから
URL:https://yuho-tsukitei.com/event/%e7%a5%9e%e6%88%b8%e8%90%bd%e8%aa%9e%e3%81%be%e3%81%a4%e3%82%8a%e3%80%9c%e8%90%bd%e8%aa%9e%e5%ae%b6%e6%98%a0%e7%94%bb%e3%82%92%e6%a5%bd%e3%81%97%e3%82%80%e4%bc%9a%e3%80%9c
ATTACH;FMTTYPE=image/jpeg:https://yuho-tsukitei.com/wp-content/uploads/2025/09/IMG_4882.jpeg
END:VEVENT
END:VCALENDAR