BEGIN:VCALENDAR
VERSION:2.0
PRODID:-//遊方 FOR YOU! - ECPv6.15.20//NONSGML v1.0//EN
CALSCALE:GREGORIAN
METHOD:PUBLISH
X-WR-CALNAME:遊方 FOR YOU!
X-ORIGINAL-URL:https://yuho-tsukitei.com
X-WR-CALDESC:遊方 FOR YOU! のイベント
REFRESH-INTERVAL;VALUE=DURATION:PT1H
X-Robots-Tag:noindex
X-PUBLISHED-TTL:PT1H
BEGIN:VTIMEZONE
TZID:Asia/Tokyo
BEGIN:STANDARD
TZOFFSETFROM:+0900
TZOFFSETTO:+0900
TZNAME:JST
DTSTART:20240101T000000
END:STANDARD
END:VTIMEZONE
BEGIN:VEVENT
DTSTART;TZID=Asia/Tokyo:20251116T133000
DTEND;TZID=Asia/Tokyo:20251116T163000
DTSTAMP:20260423T215814
CREATED:20250909T134223Z
LAST-MODIFIED:20250909T134223Z
UID:3933-1763299800-1763310600@yuho-tsukitei.com
SUMMARY:天満天神繁昌亭昼席〜桂米朝生誕百周年記念月間〜
DESCRIPTION:日時：11月16日（日）午後1時30分開演（1時開場、4時10\n     分頃終演） \n場所：天満天神繁昌亭（地下鉄「南森町」駅4-A出口より徒\n     歩3分） \n出演：桂おとめ、桂りょうば、桂あさ吉、内海英華（女道\n     楽）、桂雀太、桂枝女太 〜仲入り〜 笑福亭飛梅、桂\n     三象、パピヨンズ（漫才）、月亭遊方 \n料金：前売2500円、当日2800円、65歳以上2300円/2500\n     円、身障者2000円/2200円、学生（25才未満）1000\n     円/1500円 \nチケット＆問合せ：06-6352-4874（天満天神繁昌亭）\n     チケットぴあ(Pコード:597-700)、セブンイレブン\n     (要Pコード)
URL:https://yuho-tsukitei.com/event/%e5%a4%a9%e6%ba%80%e5%a4%a9%e7%a5%9e%e7%b9%81%e6%98%8c%e4%ba%ad%e6%98%bc%e5%b8%ad%e3%80%9c%e6%a1%82%e7%b1%b3%e6%9c%9d%e7%94%9f%e8%aa%95%e7%99%be%e5%91%a8%e5%b9%b4%e8%a8%98%e5%bf%b5%e6%9c%88%e9%96%93
ATTACH;FMTTYPE=image/jpeg:https://yuho-tsukitei.com/wp-content/uploads/2025/09/IMG_4872-scaled.jpeg
END:VEVENT
END:VCALENDAR