BEGIN:VCALENDAR
VERSION:2.0
PRODID:-//遊方 FOR YOU! - ECPv6.15.20//NONSGML v1.0//EN
CALSCALE:GREGORIAN
METHOD:PUBLISH
X-ORIGINAL-URL:https://yuho-tsukitei.com
X-WR-CALDESC:遊方 FOR YOU! のイベント
REFRESH-INTERVAL;VALUE=DURATION:PT1H
X-Robots-Tag:noindex
X-PUBLISHED-TTL:PT1H
BEGIN:VTIMEZONE
TZID:Asia/Tokyo
BEGIN:STANDARD
TZOFFSETFROM:+0900
TZOFFSETTO:+0900
TZNAME:JST
DTSTART:20240101T000000
END:STANDARD
END:VTIMEZONE
BEGIN:VEVENT
DTSTART;TZID=Asia/Tokyo:20251122T140000
DTEND;TZID=Asia/Tokyo:20251122T160000
DTSTAMP:20260424T015450
CREATED:20250909T150342Z
LAST-MODIFIED:20250909T150342Z
UID:3961-1763820000-1763827200@yuho-tsukitei.com
SUMMARY:月亭遊方の噺の招待席 vol.3 〜江戸噺特集〜
DESCRIPTION:日時：11月22日（土）午後2時開演（1時30分開場、4時終\n     演予定） \n場所：西宮えびす亭（阪神｢西宮」駅より徒歩5分 / 西宮市\n     和上町8-14） \n出演：月亭遊方『両泥』『新聞記事』『干物箱』\n     ☆各演目の解説、こだわり、考察、裏話あり \n料金：前売当日とも2500円 \n予約＆問合せ：km@fujinabe.com（FUJI鍋）\n            072-355-8286（FUJI鍋）
URL:https://yuho-tsukitei.com/event/%e6%9c%88%e4%ba%ad%e9%81%8a%e6%96%b9%e3%81%ae%e5%99%ba%e3%81%ae%e6%8b%9b%e5%be%85%e5%b8%ad-vol-3-%e3%80%9c%e6%b1%9f%e6%88%b8%e5%99%ba%e7%89%b9%e9%9b%86%e3%80%9c
ATTACH;FMTTYPE=image/jpeg:https://yuho-tsukitei.com/wp-content/uploads/2025/09/IMG_4560.jpeg
END:VEVENT
END:VCALENDAR