BEGIN:VCALENDAR
VERSION:2.0
PRODID:-//遊方 FOR YOU! - ECPv6.15.20//NONSGML v1.0//EN
CALSCALE:GREGORIAN
METHOD:PUBLISH
X-WR-CALNAME:遊方 FOR YOU!
X-ORIGINAL-URL:https://yuho-tsukitei.com
X-WR-CALDESC:遊方 FOR YOU! のイベント
REFRESH-INTERVAL;VALUE=DURATION:PT1H
X-Robots-Tag:noindex
X-PUBLISHED-TTL:PT1H
BEGIN:VTIMEZONE
TZID:Asia/Tokyo
BEGIN:STANDARD
TZOFFSETFROM:+0900
TZOFFSETTO:+0900
TZNAME:JST
DTSTART:20240101T000000
END:STANDARD
END:VTIMEZONE
BEGIN:VEVENT
DTSTART;TZID=Asia/Tokyo:20251125T183000
DTEND;TZID=Asia/Tokyo:20251125T210000
DTSTAMP:20260424T000422
CREATED:20250909T135730Z
LAST-MODIFIED:20251009T042300Z
UID:3940-1764095400-1764104400@yuho-tsukitei.com
SUMMARY:天神寄席11月席〜けちん坊の柿の種〜
DESCRIPTION:日時：11月25日（火）午後6時30分開演（6時開場） \n場所：天満天神繁昌亭（地下鉄「南森町」駅4-A出口より徒歩3分） \n出演：桂小梅「始末の極意」\n     桂雀太「天狗さし」\n     月亭遊方「つぼ算」\n     桂坊枝「火焔太鼓」\n        〜仲入り〜\n    【鼎談〜大阪人は本当に渋ちんか〜】\n       金水敏（放送大学大阪学習センター所長）\n       高島幸次（大阪天満宮文化研究所所長）\n       桂春若\n     桂春団治「死ぬなら今」 \n料金：前売2500円、当日2800円、身障者・大学生2300円、\n    （25才未満）高校生2000円、小中学生1500円\n     ※各種要証明書 \n問合せ：06-6352-4874（天満天神繁昌亭） \nチケット：チケットぴあ(Pコード:597-700)、セブンイレ\n        ブン(要Pコード)
URL:https://yuho-tsukitei.com/event/%e5%a4%a9%e7%a5%9e%e5%af%84%e5%b8%ad11%e6%9c%88%e5%b8%ad%e3%80%9c%e3%81%91%e3%81%a1%e3%82%93%e5%9d%8a%e3%81%ae%e6%9f%bf%e3%81%ae%e7%a8%ae%e3%80%9c
ATTACH;FMTTYPE=image/jpeg:https://yuho-tsukitei.com/wp-content/uploads/2025/09/IMG_5892-scaled.jpeg
END:VEVENT
END:VCALENDAR