BEGIN:VCALENDAR
VERSION:2.0
PRODID:-//遊方 FOR YOU! - ECPv6.15.20//NONSGML v1.0//EN
CALSCALE:GREGORIAN
METHOD:PUBLISH
X-ORIGINAL-URL:https://yuho-tsukitei.com
X-WR-CALDESC:遊方 FOR YOU! のイベント
REFRESH-INTERVAL;VALUE=DURATION:PT1H
X-Robots-Tag:noindex
X-PUBLISHED-TTL:PT1H
BEGIN:VTIMEZONE
TZID:Asia/Tokyo
BEGIN:STANDARD
TZOFFSETFROM:+0900
TZOFFSETTO:+0900
TZNAME:JST
DTSTART:20240101T000000
END:STANDARD
END:VTIMEZONE
BEGIN:VEVENT
DTSTART;TZID=Asia/Tokyo:20251208T183000
DTEND;TZID=Asia/Tokyo:20251208T210000
DTSTAMP:20260423T195007
CREATED:20250824T232512Z
LAST-MODIFIED:20251125T084045Z
UID:3913-1765218600-1765227600@yuho-tsukitei.com
SUMMARY:月亭遊方独演会 〜新古典派宣言〜
DESCRIPTION:日時：12月8日（月）午後6時30分開演（6時開場） \n場所：天満天神繁昌亭（地下鉄「南森町」駅4-A出口より徒歩3分） \n出演：月亭遊方『質屋蔵』『猫の災難』『看板のピン』\n     ゲスト：月亭八方（お楽しみ） \n料金：前売3000円 当日3500円（全席指定） \n      チケットぴあ(Pコード:597-700)、セブンイレブン\n      (要Pコード)、繁昌亭窓口 \nお問合せ：yuhotsukitei.69@gmail.com（UFO基地）
URL:https://yuho-tsukitei.com/event/%e6%9c%88%e4%ba%ad%e9%81%8a%e6%96%b9%e7%8b%ac%e6%bc%94%e4%bc%9a-%e3%80%9c%e6%96%b0%e5%8f%a4%e5%85%b8%e6%b4%be%e5%ae%a3%e8%a8%80%e3%80%9c
ATTACH;FMTTYPE=image/jpeg:https://yuho-tsukitei.com/wp-content/uploads/2025/08/IMG_4850.jpeg
END:VEVENT
END:VCALENDAR