BEGIN:VCALENDAR
VERSION:2.0
PRODID:-//遊方 FOR YOU! - ECPv6.15.20//NONSGML v1.0//EN
CALSCALE:GREGORIAN
METHOD:PUBLISH
X-ORIGINAL-URL:https://yuho-tsukitei.com
X-WR-CALDESC:遊方 FOR YOU! のイベント
REFRESH-INTERVAL;VALUE=DURATION:PT1H
X-Robots-Tag:noindex
X-PUBLISHED-TTL:PT1H
BEGIN:VTIMEZONE
TZID:Asia/Tokyo
BEGIN:STANDARD
TZOFFSETFROM:+0900
TZOFFSETTO:+0900
TZNAME:JST
DTSTART:20250101T000000
END:STANDARD
END:VTIMEZONE
BEGIN:VEVENT
DTSTART;TZID=Asia/Tokyo:20260103T103000
DTEND;TZID=Asia/Tokyo:20260103T130000
DTSTAMP:20260420T070617
CREATED:20251120T190432Z
LAST-MODIFIED:20251120T190432Z
UID:4083-1767436200-1767445200@yuho-tsukitei.com
SUMMARY:天満天神繁昌亭新春特別公演３日目１回目
DESCRIPTION:日時：2026年1月3日（土）午前10時30分開演（10時開場） \n場所：天満天神繁昌亭（地下鉄「南森町」駅4-A出口より徒\n     歩3分） \n出演：笑福亭智丸、月亭天使、桂坊枝、露の団四郎改メ三代\n     目露の五郎（百面相）、桂小春團治 〜仲入り〜\n     大喜利（桂春雨、笑福亭喬若、桂おとめ、桂二豆、司\n     会/桂坊枝）、月亭遊方、桂文之助 \n料金：前売3500円、当日4000円 / 身障者・高校・大学\n     生：前売当日共3300円 / 小中学生：前売当日共\n     3000円   ※各種料金要証明書 \n問合せ：06-6352-4874（天満天神繁昌亭）
URL:https://yuho-tsukitei.com/event/%e5%a4%a9%e6%ba%80%e5%a4%a9%e7%a5%9e%e7%b9%81%e6%98%8c%e4%ba%ad%e6%96%b0%e6%98%a5%e7%89%b9%e5%88%a5%e5%85%ac%e6%bc%94%ef%bc%93%e6%97%a5%e7%9b%ae%ef%bc%91%e5%9b%9e%e7%9b%ae
ATTACH;FMTTYPE=image/jpeg:https://yuho-tsukitei.com/wp-content/uploads/2025/11/IMG_7201-scaled.jpeg
END:VEVENT
END:VCALENDAR