BEGIN:VCALENDAR
VERSION:2.0
PRODID:-//遊方 FOR YOU! - ECPv6.15.20//NONSGML v1.0//EN
CALSCALE:GREGORIAN
METHOD:PUBLISH
X-ORIGINAL-URL:https://yuho-tsukitei.com
X-WR-CALDESC:遊方 FOR YOU! のイベント
REFRESH-INTERVAL;VALUE=DURATION:PT1H
X-Robots-Tag:noindex
X-PUBLISHED-TTL:PT1H
BEGIN:VTIMEZONE
TZID:Asia/Tokyo
BEGIN:STANDARD
TZOFFSETFROM:+0900
TZOFFSETTO:+0900
TZNAME:JST
DTSTART:20250101T000000
END:STANDARD
END:VTIMEZONE
BEGIN:VEVENT
DTSTART;TZID=Asia/Tokyo:20260107T183000
DTEND;TZID=Asia/Tokyo:20260107T210000
DTSTAMP:20260420T070549
CREATED:20251009T235126Z
LAST-MODIFIED:20251009T235126Z
UID:4011-1767810600-1767819600@yuho-tsukitei.com
SUMMARY:ツギハギ荘Presents ロン毛・トーク・ファニー＠繁昌亭
DESCRIPTION:日時：1月7日（水）午後6時30分開演（6時開場） \n場所：天満天神繁昌亭（地下鉄「南森町」駅4-A出口より徒\n     歩3分） \n出演：月亭遊方『いとしのレイラ〜彼女のロック〜』\n     桂雀喜『教え子』\n     ゲスト：桂文治『お楽しみ』\n     ☆七草をつつきながらこたつトークあり \n     三味線：豊田公美子 \n料金：前売3000円 当日3500円（全席指定）\n     ※11月7日発売 \nチケット：チケットぴあ t.pia.jp 、セブンイレブン（ど\n         ちらもPコード：597-700）、\n         繁昌亭窓口（11時〜19時） \n問合せ：tugihagisoh＠gmail.com（ツギハギ荘）
URL:https://yuho-tsukitei.com/event/%e3%83%84%e3%82%ae%e3%83%8f%e3%82%ae%e8%8d%98presents-%e3%83%ad%e3%83%b3%e6%af%9b%e3%83%bb%e3%83%88%e3%83%bc%e3%82%af%e3%83%bb%e3%83%95%e3%82%a1%e3%83%8b%e3%83%bc%ef%bc%a0%e7%b9%81%e6%98%8c%e4%ba%ad
ATTACH;FMTTYPE=image/png:https://yuho-tsukitei.com/wp-content/uploads/2025/10/IMG_5770.png
END:VEVENT
END:VCALENDAR