BEGIN:VCALENDAR
VERSION:2.0
PRODID:-//遊方 FOR YOU! - ECPv6.15.20//NONSGML v1.0//EN
CALSCALE:GREGORIAN
METHOD:PUBLISH
X-ORIGINAL-URL:https://yuho-tsukitei.com
X-WR-CALDESC:遊方 FOR YOU! のイベント
REFRESH-INTERVAL;VALUE=DURATION:PT1H
X-Robots-Tag:noindex
X-PUBLISHED-TTL:PT1H
BEGIN:VTIMEZONE
TZID:Asia/Tokyo
BEGIN:STANDARD
TZOFFSETFROM:+0900
TZOFFSETTO:+0900
TZNAME:JST
DTSTART:20250101T000000
END:STANDARD
END:VTIMEZONE
BEGIN:VEVENT
DTSTART;TZID=Asia/Tokyo:20260109T183000
DTEND;TZID=Asia/Tokyo:20260109T210000
DTSTAMP:20260420T070735
CREATED:20251215T205837Z
LAST-MODIFIED:20251215T205837Z
UID:4098-1767983400-1767992400@yuho-tsukitei.com
SUMMARY:笑福亭たまのお喜楽独演会
DESCRIPTION:日時：令和7年1月9日（金）午後6時45分開演（6時15分開\n     場） \n場所：神戸新開地・喜楽館（各線「新開地」駅東改札③番出\n     口より徒歩2分） \n出演：笑福亭たま「ラップバトル」「壺算」\n     月亭遊方、森乃石松、桂笑金\n     ☆トークあり \n料金：前売3000円、当日3500円、40歳以下1000円（当日\n     1500円）、オンライン3000円 \nチケット：喜楽館窓口、チケットぴあ t.pia.jp 、セブン\n        イレブン（どちらも要Pコード：597-410） \n問合せ：078-335-7088（喜楽館） \nオンライン、その他問合せ：yoyakutamajimusho@gmail.com（たま事務所）
URL:https://yuho-tsukitei.com/event/%e7%ac%91%e7%a6%8f%e4%ba%ad%e3%81%9f%e3%81%be%e3%81%ae%e3%81%8a%e5%96%9c%e6%a5%bd%e7%8b%ac%e6%bc%94%e4%bc%9a
ATTACH;FMTTYPE=image/jpeg:https://yuho-tsukitei.com/wp-content/uploads/2025/12/IMG_7706.jpeg
END:VEVENT
END:VCALENDAR