BEGIN:VCALENDAR
VERSION:2.0
PRODID:-//遊方 FOR YOU! - ECPv6.15.20//NONSGML v1.0//EN
CALSCALE:GREGORIAN
METHOD:PUBLISH
X-ORIGINAL-URL:https://yuho-tsukitei.com
X-WR-CALDESC:遊方 FOR YOU! のイベント
REFRESH-INTERVAL;VALUE=DURATION:PT1H
X-Robots-Tag:noindex
X-PUBLISHED-TTL:PT1H
BEGIN:VTIMEZONE
TZID:Asia/Tokyo
BEGIN:STANDARD
TZOFFSETFROM:+0900
TZOFFSETTO:+0900
TZNAME:JST
DTSTART:20250101T000000
END:STANDARD
END:VTIMEZONE
BEGIN:VEVENT
DTSTART;TZID=Asia/Tokyo:20260113T190000
DTEND;TZID=Asia/Tokyo:20260113T210000
DTSTAMP:20260420T070731
CREATED:20250928T224517Z
LAST-MODIFIED:20250928T224517Z
UID:3989-1768330800-1768338000@yuho-tsukitei.com
SUMMARY:月亭遊方の噺のROCK＃7
DESCRIPTION:日時：2026年1月13日（火）午後7時開演（6時30分開場） \n場所：アートスペース兜座5F演芸フロア ※オール椅子席 \n出演：月亭遊方『生きてるうちが花なんだぜ』他２席 \n料金：前売3000円 当日3500円（全席自由） \n予約＆問合せ：yuhotsukitei.69@gmail.com\n          / 090-1408-3942（UFO基地）
URL:https://yuho-tsukitei.com/event/%e6%9c%88%e4%ba%ad%e9%81%8a%e6%96%b9%e3%81%ae%e5%99%ba%e3%81%aerock%ef%bc%837
ATTACH;FMTTYPE=image/jpeg:https://yuho-tsukitei.com/wp-content/uploads/2025/09/IMG_5124.jpeg
END:VEVENT
END:VCALENDAR