BEGIN:VCALENDAR
VERSION:2.0
PRODID:-//遊方 FOR YOU! - ECPv6.15.20//NONSGML v1.0//EN
CALSCALE:GREGORIAN
METHOD:PUBLISH
X-WR-CALNAME:遊方 FOR YOU!
X-ORIGINAL-URL:https://yuho-tsukitei.com
X-WR-CALDESC:遊方 FOR YOU! のイベント
REFRESH-INTERVAL;VALUE=DURATION:PT1H
X-Robots-Tag:noindex
X-PUBLISHED-TTL:PT1H
BEGIN:VTIMEZONE
TZID:Asia/Tokyo
BEGIN:STANDARD
TZOFFSETFROM:+0900
TZOFFSETTO:+0900
TZNAME:JST
DTSTART:20250101T000000
END:STANDARD
END:VTIMEZONE
BEGIN:VEVENT
DTSTART;TZID=Asia/Tokyo:20260115T140000
DTEND;TZID=Asia/Tokyo:20260115T170000
DTSTAMP:20260420T070523
CREATED:20251215T211401Z
LAST-MODIFIED:20251224T033600Z
UID:4107-1768485600-1768496400@yuho-tsukitei.com
SUMMARY:動楽亭昼席
DESCRIPTION:日時：1月11日（日）午後2時開演（1時30分開場） \n場所：動楽亭（（地下鉄「動物園前」駅①番出口上がってす\n     ぐ目の前、コンビニストアの上2階） \n出演：桂八十助、桂団治郎、桂佐ん吉、月亭遊方 〜仲入\n     り〜 豊来家幸輝（大神楽）、桂福團治\n     ※出演順 \n料金：2500円（当日のみ） \n問合せ：06-6365-8281（米朝事務所）
URL:https://yuho-tsukitei.com/event/%e5%8b%95%e6%a5%bd%e4%ba%ad%e6%98%bc%e5%b8%ad-18
ATTACH;FMTTYPE=image/jpeg:https://yuho-tsukitei.com/wp-content/uploads/2025/12/IMG_8301.jpeg
END:VEVENT
END:VCALENDAR