BEGIN:VCALENDAR
VERSION:2.0
PRODID:-//遊方 FOR YOU! - ECPv6.15.20//NONSGML v1.0//EN
CALSCALE:GREGORIAN
METHOD:PUBLISH
X-ORIGINAL-URL:https://yuho-tsukitei.com
X-WR-CALDESC:遊方 FOR YOU! のイベント
REFRESH-INTERVAL;VALUE=DURATION:PT1H
X-Robots-Tag:noindex
X-PUBLISHED-TTL:PT1H
BEGIN:VTIMEZONE
TZID:Asia/Tokyo
BEGIN:STANDARD
TZOFFSETFROM:+0900
TZOFFSETTO:+0900
TZNAME:JST
DTSTART:20250101T000000
END:STANDARD
END:VTIMEZONE
BEGIN:VEVENT
DTSTART;TZID=Asia/Tokyo:20260125T150000
DTEND;TZID=Asia/Tokyo:20260125T163000
DTSTAMP:20260420T070659
CREATED:20251215T213115Z
LAST-MODIFIED:20251215T213115Z
UID:4112-1769353200-1769358600@yuho-tsukitei.com
SUMMARY:さのDAY落語会
DESCRIPTION:日時：1月25日（日）午後3時開演（2時30分開場、4時30分\n     終演） \n場所：レフ関空泉佐野byベッセルホテルズ３階（南海本線\n     ｢泉佐野｣駅東口すぐ、3階、フロント階奥、左、イベ\n     ントってスペース） \n出演：月亭遊方、桂おとめ（落語1席ずつとトーク） \n料金：2000円（ソフトドリンクBAR、焼き菓子付き） \n予約＆問合せ：080-4766-0911（sho-yaカンパニー）
URL:https://yuho-tsukitei.com/event/%e3%81%95%e3%81%aeday%e8%90%bd%e8%aa%9e%e4%bc%9a-5
ATTACH;FMTTYPE=image/jpeg:https://yuho-tsukitei.com/wp-content/uploads/2025/12/IMG_7878.jpeg
END:VEVENT
END:VCALENDAR